BEGIN:VCALENDAR
VERSION:2.0
PRODID:-//Tukios.com/
BEGIN:VEVENT
UID:869cdf83-b6b1-419d-88a4-507cc51f3434@www.mayandsmithfuneraldirectors.com
DTSTAMP:20260421T084443Z
DTSTART:20260417T170000Z
DTEND:20260417T180000Z
SUMMARY:Graveside Service
DESCRIPTION:
URL:https://www.mayandsmithfuneraldirectors.com/obituaries/william-harvey-smith
LOCATION: Zeta Street  Tennille GA 31089
GEO:32.9322979;-82.812983
END:VEVENT
END:VCALENDAR